---
# Dataset
$schema: https://schemas.opendatacube.org/dataset
id: 0d6e29ae-a23a-40e4-8d0b-fbd38f63e750
label: ga_s2bm_ard_3-2-1_53LQC_2019-04-21_final
product:
  name: ga_s2bm_ard_3
  href: https://collections.dea.ga.gov.au/product/ga_s2bm_ard_3
crs: epsg:32753
geometry:
  type: Polygon
  coordinates: [[[699960.0, 8300020.0], [809760.0, 8300020.0], [809760.0, 8190220.0], [699960.0, 8190220.0], [699960.0, 8300020.0]]]
grids:
  default:
    shape: [5490, 5490]
    transform: [20.0, 0.0, 699960.0, 0.0, -20.0, 8300020.0, 0.0, 0.0, 1.0]
  '10':
    shape: [10980, 10980]
    transform: [10.0, 0.0, 699960.0, 0.0, -10.0, 8300020.0, 0.0, 0.0, 1.0]
  '60':
    shape: [1830, 1830]
    transform: [60.0, 0.0, 699960.0, 0.0, -60.0, 8300020.0, 0.0, 0.0, 1.0]
properties:
  datetime: 2019-04-21 01:11:41.208424Z
  dea:dataset_maturity: final
  dea:product_maturity: stable
  eo:cloud_cover: 0.06905750146814377
  eo:constellation: sentinel-2
  eo:gsd: 10.0 # Ground sample distance (m)
  eo:instrument: MSI
  eo:platform: sentinel-2b
  eo:sun_azimuth: 42.6834175398241
  eo:sun_elevation: 36.654988722152
  fmask:clear: 27.403137348582124
  fmask:cloud: 0.06905750146814377
  fmask:cloud_shadow: 0.059638156475924096
  fmask:snow: 0.35232132607390154
  fmask:water: 72.11584566739991
  gqa:abs_iterative_mean_x: 0.34
  gqa:abs_iterative_mean_xy: 0.42
  gqa:abs_iterative_mean_y: 0.26
  gqa:abs_x: 0.71
  gqa:abs_xy: 0.94
  gqa:abs_y: 0.62
  gqa:cep90: 0.74
  gqa:iterative_mean_x: 0.3
  gqa:iterative_mean_xy: 0.35
  gqa:iterative_mean_y: -0.18
  gqa:iterative_stddev_x: 0.28
  gqa:iterative_stddev_xy: 0.4
  gqa:iterative_stddev_y: 0.28
  gqa:mean_x: 0.26
  gqa:mean_xy: 0.35
  gqa:mean_y: -0.23
  gqa:stddev_x: 1.53
  gqa:stddev_xy: 2.31
  gqa:stddev_y: 1.73
  odc:dataset_version: 3.2.1
  odc:file_format: GeoTIFF
  odc:processing_datetime: 2022-05-26 11:31:18.385558Z
  odc:producer: ga.gov.au
  odc:product_family: ard
  odc:region_code: 53LQC
  s2cloudless:clear: 99.9585236943474
  s2cloudless:cloud: 0.041476305652602345
  sat:orbit_state: descending
  sat:relative_orbit: 45
  sentinel:datastrip_id: S2B_OPER_MSI_L1C_DS_EPAE_20190421T022405_S20190421T010733_N02.07
  sentinel:datatake_start_datetime: 2019-04-21 02:24:05Z
  sentinel:product_name: S2B_MSIL1C_20190421T010739_N0207_R045_T53LQC_20190421T022405
  sentinel:sentinel_tile_id: S2B_OPER_MSI_L1C_TL_EPAE_20190421T022405_A011082_T53LQC_N02.07
measurements:
  nbart_blue:
    path: ga_s2bm_nbart_3-2-1_53LQC_2019-04-21_final_band02.tif
    grid: '10'
  nbart_coastal_aerosol:
    path: ga_s2bm_nbart_3-2-1_53LQC_2019-04-21_final_band01.tif
    grid: '60'
  nbart_green:
    path: ga_s2bm_nbart_3-2-1_53LQC_2019-04-21_final_band03.tif
    grid: '10'
  nbart_nir_1:
    path: ga_s2bm_nbart_3-2-1_53LQC_2019-04-21_final_band08.tif
    grid: '10'
  nbart_nir_2:
    path: ga_s2bm_nbart_3-2-1_53LQC_2019-04-21_final_band08a.tif
  nbart_red:
    path: ga_s2bm_nbart_3-2-1_53LQC_2019-04-21_final_band04.tif
    grid: '10'
  nbart_red_edge_1:
    path: ga_s2bm_nbart_3-2-1_53LQC_2019-04-21_final_band05.tif
  nbart_red_edge_2:
    path: ga_s2bm_nbart_3-2-1_53LQC_2019-04-21_final_band06.tif
  nbart_red_edge_3:
    path: ga_s2bm_nbart_3-2-1_53LQC_2019-04-21_final_band07.tif
  nbart_swir_2:
    path: ga_s2bm_nbart_3-2-1_53LQC_2019-04-21_final_band11.tif
  nbart_swir_3:
    path: ga_s2bm_nbart_3-2-1_53LQC_2019-04-21_final_band12.tif
  oa_azimuthal_exiting:
    path: ga_s2bm_oa_3-2-1_53LQC_2019-04-21_final_azimuthal-exiting.tif
  oa_azimuthal_incident:
    path: ga_s2bm_oa_3-2-1_53LQC_2019-04-21_final_azimuthal-incident.tif
  oa_combined_terrain_shadow:
    path: ga_s2bm_oa_3-2-1_53LQC_2019-04-21_final_combined-terrain-shadow.tif
  oa_exiting_angle:
    path: ga_s2bm_oa_3-2-1_53LQC_2019-04-21_final_exiting-angle.tif
  oa_fmask:
    path: ga_s2bm_oa_3-2-1_53LQC_2019-04-21_final_fmask.tif
  oa_incident_angle:
    path: ga_s2bm_oa_3-2-1_53LQC_2019-04-21_final_incident-angle.tif
  oa_nbart_contiguity:
    path: ga_s2bm_oa_3-2-1_53LQC_2019-04-21_final_nbart-contiguity.tif
    grid: '10'
  oa_relative_azimuth:
    path: ga_s2bm_oa_3-2-1_53LQC_2019-04-21_final_relative-azimuth.tif
  oa_relative_slope:
    path: ga_s2bm_oa_3-2-1_53LQC_2019-04-21_final_relative-slope.tif
  oa_s2cloudless_mask:
    path: ga_s2bm_oa_3-2-1_53LQC_2019-04-21_final_s2cloudless-mask.tif
    grid: '60'
  oa_s2cloudless_prob:
    path: ga_s2bm_oa_3-2-1_53LQC_2019-04-21_final_s2cloudless-prob.tif
    grid: '60'
  oa_satellite_azimuth:
    path: ga_s2bm_oa_3-2-1_53LQC_2019-04-21_final_satellite-azimuth.tif
  oa_satellite_view:
    path: ga_s2bm_oa_3-2-1_53LQC_2019-04-21_final_satellite-view.tif
  oa_solar_azimuth:
    path: ga_s2bm_oa_3-2-1_53LQC_2019-04-21_final_solar-azimuth.tif
  oa_solar_zenith:
    path: ga_s2bm_oa_3-2-1_53LQC_2019-04-21_final_solar-zenith.tif
  oa_time_delta:
    path: ga_s2bm_oa_3-2-1_53LQC_2019-04-21_final_time-delta.tif
accessories:
  thumbnail:nbart:
    path: ga_s2bm_nbart_3-2-1_53LQC_2019-04-21_final_thumbnail.jpg
  metadata:processor:
    path: ga_s2bm_ard_3-2-1_53LQC_2019-04-21_final.proc-info.yaml
  checksum:sha1:
    path: ga_s2bm_ard_3-2-1_53LQC_2019-04-21_final.sha1
lineage:
  level1:
  - 22887468-2212-5cdf-bf42-abfa9716b7de
...
